BEGIN:VCALENDAR
VERSION:2.0
PRODID:-//wp-events-plugin.com//5.99912//EN
TZID:Europe/Berlin
X-WR-TIMEZONE:Europe/Berlin
BEGIN:VEVENT
UID:0-285@neuhuetten.albverein.eu
DTSTART;TZID=Europe/Berlin:20260913T000000
DTEND;TZID=Europe/Berlin:20260913T000000
DTSTAMP:20251119T093603Z
URL:https://neuhuetten.albverein.eu/events/gemeinsame-wanderausfahrt-ogs-n
 eulautern-neuhuetten-und-wuestenrot-2/
SUMMARY:Gemeinsame Wanderausfahrt OG´s Neulautern\, Neuhütten und Wüsten
 rot
DESCRIPTION:Hohenneuffen auf der Schwäbischen Alb.\nWanderführerin: Ingeb
 org Springmann-Heinze.\n\nNähere Details werden zeitnah im Gemeindeblatt 
 der Gemeinde Wüstenrot veröffentlicht.
END:VEVENT
BEGIN:VTIMEZONE
TZID:Europe/Berlin
X-LIC-LOCATION:Europe/Berlin
BEGIN:DAYLIGHT
DTSTART:20260329T030000
TZOFFSETFROM:+0100
TZOFFSETTO:+0200
TZNAME:CEST
END:DAYLIGHT
END:VTIMEZONE
END:VCALENDAR