BEGIN:VCALENDAR
VERSION:2.0
PRODID:-//wp-events-plugin.com//5.99912//EN
TZID:Europe/Berlin
X-WR-TIMEZONE:Europe/Berlin
BEGIN:VEVENT
UID:0-282@neuhuetten.albverein.eu
DTSTART;TZID=Europe/Berlin:20260510T000000
DTEND;TZID=Europe/Berlin:20260510T000000
DTSTAMP:20251119T092926Z
URL:https://neuhuetten.albverein.eu/events/gemeinsame-wanderung-ogs-neulau
 tern-neuhuetten-und-wuestenrot/
SUMMARY:Gemeinsame Wanderung OG´s Neulautern\, Neuhütten und Wüstenrot
DESCRIPTION:Jagsttal Wiesen Wanderung\nWanderführer: Uwe Holland.\n\nNähe
 re Details wie Treffpunkt und Uhrzeit werden zeitnah veröffentlicht.
END:VEVENT
BEGIN:VTIMEZONE
TZID:Europe/Berlin
X-LIC-LOCATION:Europe/Berlin
BEGIN:DAYLIGHT
DTSTART:20260329T030000
TZOFFSETFROM:+0100
TZOFFSETTO:+0200
TZNAME:CEST
END:DAYLIGHT
END:VTIMEZONE
END:VCALENDAR