BEGIN:VCALENDAR
VERSION:2.0
PRODID:-//wp-events-plugin.com//5.99912//EN
TZID:Europe/Berlin
X-WR-TIMEZONE:Europe/Berlin
BEGIN:VEVENT
UID:0-283@neuhuetten.albverein.eu
DTSTART;TZID=Europe/Berlin:20260614T133000
DTEND;TZID=Europe/Berlin:20260614T183000
DTSTAMP:20251119T111739Z
URL:https://neuhuetten.albverein.eu/events/heimattour-ueber-feld-wald-und-
 wiesen/
SUMMARY:Heimattour über Feld\, Wald und Wiesen
DESCRIPTION:Strecke: ca. 9 km. Dauer: ca. 3 Stunden.\nWanderführerinnen: C
 hrista Schwarz\, Inge Fleischhacker.
LOCATION:Burgfriedenhalle Neuhütten\, Öhringer Straße 80\, Neuhütten\, 
 71543\, Deutschland
GEO:49.11069;9.49184
X-APPLE-STRUCTURED-LOCATION;VALUE=URI;X-ADDRESS=Öhringer Straße 80\, Neuh
 ütten\, 71543\, Deutschland;X-APPLE-RADIUS=100;X-TITLE=Burgfriedenhalle N
 euhütten:geo:49.11069,9.49184
END:VEVENT
BEGIN:VTIMEZONE
TZID:Europe/Berlin
X-LIC-LOCATION:Europe/Berlin
BEGIN:DAYLIGHT
DTSTART:20260329T030000
TZOFFSETFROM:+0100
TZOFFSETTO:+0200
TZNAME:CEST
END:DAYLIGHT
END:VTIMEZONE
END:VCALENDAR