BEGIN:VCALENDAR
VERSION:2.0
PRODID:-//wp-events-plugin.com//5.99912//EN
TZID:Europe/Berlin
X-WR-TIMEZONE:Europe/Berlin
BEGIN:VEVENT
UID:0-288@neuhuetten.albverein.eu
DTSTART;TZID=Europe/Berlin:20261213T143000
DTEND;TZID=Europe/Berlin:20261213T200000
DTSTAMP:20251119T094453Z
URL:https://neuhuetten.albverein.eu/events/kurzwanderung-um-neuhuetten-4/
SUMMARY:Kurzwanderung um Neuhütten
DESCRIPTION:mit anschließendem gemütlichem Beisammensein.\nWanderführer:
  Eugen Pruski.
END:VEVENT
BEGIN:VTIMEZONE
TZID:Europe/Berlin
X-LIC-LOCATION:Europe/Berlin
BEGIN:STANDARD
DTSTART:20261025T020000
TZOFFSETFROM:+0200
TZOFFSETTO:+0100
TZNAME:CET
END:STANDARD
END:VTIMEZONE
END:VCALENDAR