BEGIN:VCALENDAR
VERSION:2.0
PRODID:-//wp-events-plugin.com//5.99912//EN
TZID:Europe/Berlin
X-WR-TIMEZONE:Europe/Berlin
BEGIN:VEVENT
UID:0-287@neuhuetten.albverein.eu
DTSTART;TZID=Europe/Berlin:20261108T133000
DTEND;TZID=Europe/Berlin:20261108T183000
DTSTAMP:20251119T093954Z
URL:https://neuhuetten.albverein.eu/events/landschaftspanoramarunde/
SUMMARY:Landschaftspanoramarunde
DESCRIPTION:Badener Hof - Weinsberg - Waldheide\nStrecke: ca. 11 km. Höhen
 meter: ca. 160 m.\nWanderführer: Siegfried Giebler.
LOCATION:Burgfriedenhalle Neuhütten\, Öhringer Straße 80\, Neuhütten\, 
 71543\, Deutschland
GEO:49.11069;9.49184
X-APPLE-STRUCTURED-LOCATION;VALUE=URI;X-ADDRESS=Öhringer Straße 80\, Neuh
 ütten\, 71543\, Deutschland;X-APPLE-RADIUS=100;X-TITLE=Burgfriedenhalle N
 euhütten:geo:49.11069,9.49184
END:VEVENT
BEGIN:VTIMEZONE
TZID:Europe/Berlin
X-LIC-LOCATION:Europe/Berlin
BEGIN:STANDARD
DTSTART:20261025T020000
TZOFFSETFROM:+0200
TZOFFSETTO:+0100
TZNAME:CET
END:STANDARD
END:VTIMEZONE
END:VCALENDAR