BEGIN:VCALENDAR
VERSION:2.0
PRODID:-//wp-events-plugin.com//5.99912//EN
TZID:Europe/Berlin
X-WR-TIMEZONE:Europe/Berlin
BEGIN:VEVENT
UID:0-292@neuhuetten.albverein.eu
DTSTART;TZID=Europe/Berlin:20260628T070000
DTEND;TZID=Europe/Berlin:20260628T190000
DTSTAMP:20251119T111721Z
URL:https://neuhuetten.albverein.eu/events/wanderung-im-welzheimer-wald-3/
SUMMARY:Wanderung im Welzheimer Wald
DESCRIPTION:Der Welzheimer Wald ist landschaftlich eine von fünf Waldregio
 nen des Naturparks Schwäbische-Fränkischer Wald und besticht durch sein 
 flächendeckendes Netz an Wanderwegen. Dabei geht es über Stock und Stein
  durch wilde unverfälschte Natur. Bei fünf Wanderungen geht es durch die
 se wunderschöne Landschaft.\nDie Termine sind:\n26.04.2026\n31.05.2026\n2
 8.06.2026\n27.09.2026\n25.10.2025\nTreffpunkt ist jeweils der Parkplatz be
 i der Burgfriedenhalle in Neuhütten.\nDetails über Streckenverlauf und A
 bfahrtszeiten werden jeweils zeitnah im Mitteilungsblat der Gemeinde Wüst
 enrot und auf unserer Homepage veröffentlicht. Die Streckenlängen bewege
 n sich je nach Tour zwischen 13 km und 22 km und die dabei zu überwindend
 en Höhenmeter zwischen 330 m und 800 m.\nBei den Wanderungen sind eine gu
 te Kondition und festes Schuhwerk erforderlich.\nWitterungsbedingte Änder
 ungen vorbehalten. Aktualisierungen der Termine können auf dieser Homepag
 e entnommen werden.
LOCATION:Burgfriedenhalle Neuhütten\, Öhringer Straße 80\, Neuhütten\, 
 71543\, Deutschland
GEO:49.11069;9.49184
X-APPLE-STRUCTURED-LOCATION;VALUE=URI;X-ADDRESS=Öhringer Straße 80\, Neuh
 ütten\, 71543\, Deutschland;X-APPLE-RADIUS=100;X-TITLE=Burgfriedenhalle N
 euhütten:geo:49.11069,9.49184
END:VEVENT
BEGIN:VTIMEZONE
TZID:Europe/Berlin
X-LIC-LOCATION:Europe/Berlin
BEGIN:DAYLIGHT
DTSTART:20260329T030000
TZOFFSETFROM:+0100
TZOFFSETTO:+0200
TZNAME:CEST
END:DAYLIGHT
END:VTIMEZONE
END:VCALENDAR