BEGIN:VCALENDAR
VERSION:2.0
PRODID:-//wp-events-plugin.com//5.99912//EN
TZID:Europe/Berlin
X-WR-TIMEZONE:Europe/Berlin
BEGIN:VEVENT
UID:0-290@neuhuetten.albverein.eu
DTSTART;TZID=Europe/Berlin:20260426T093000
DTEND;TZID=Europe/Berlin:20260426T213000
DTSTAMP:20260328T093742Z
URL:https://neuhuetten.albverein.eu/events/wanderung-im-welzheimer-wald/
SUMMARY:Wanderung im Welzheimer Wald: Hafental- Rundweg
DESCRIPTION:Der Welzheimer Wald ist landschaftlich eine von fünf Waldregio
 nen des Naturparks Schwäbische-Fränkischer Wald und besticht durch sein 
 flächendeckendes Netz an Wanderwegen. Dabei geht es über Stock und Stein
  durch wilde unverfälschte Natur. Bei fünf Wanderungen geht es durch die
 se wunderschöne Landschaft.\nAm Sonntag\, den 26.4.2026 geht es auf den H
 afental-Rundweg. Start-/Endpunkt: 73553 Alfdorf\, Parkplatz Rathaus Vorder
 steinenberg.\nGutes Schuhwerk ist bei dieser anspruchsvollen Tour Pflicht\
 , denn sie führt über naturnahe Waldpfade. Vorbei am Reichenbachstausee.
  Über Waldpfade erreicht man den tiefsten Punkt der Strecke an der Leinm
 ühle im Naturschutzgebiet Leintal. Schlußeinkehr ist geplant. Wanderstr
 ecke: 13\,5 km. Höhenmeter sowohl im Anstieg als auch im Abstieg: 328 m. 
 Dauer der Wanderung ca. 5 Stunden. Treffpunkt zur Bildung von Fahrgemeinsc
 haften ist um 9:30 Uhr der Parkplatz bei der Burgfriedenhalle in Wüstenro
 t-Neuhütten.\nAus organisatorischen Gründen ist eine Anmeldung erforderl
 ich. Telefonisch: 07945/942358 oder per Mail: sav.og.neuhuetten@gmail.com.
 \nWanderführer: Jürgen Pachwald\n&nbsp\;\n\n&nbsp\;\n\n&nbsp\;\n\nDie n
 ächsten Termine sind:\n31.05.2026\n28.06.2026\n27.09.2026\n25.10.2025\n\n
 Treffpunkt ist jeweils der Parkplatz bei der Burgfriedenhalle in Neuhütte
 n.\nDetails über Streckenverlauf und Abfahrtszeiten werden jeweils zeitna
 h im Mitteilungsblat der Gemeinde Wüstenrot und auf unserer Homepage ver
 öffentlicht. Die Streckenlängen bewegen sich je nach Tour zwischen 13 km
  und 22 km und die dabei zu überwindenden Höhenmeter zwischen 330 m und 
 800 m.\nBei den Wanderungen sind eine gute Kondition und festes Schuhwerk 
 erforderlich.\nWitterungsbedingte Änderungen vorbehalten. Aktualisierunge
 n der Termine können auf dieser Homepage entnommen werden.
LOCATION:Burgfriedenhalle Neuhütten\, Öhringer Straße 80\, Neuhütten\, 
 71543\, Deutschland
GEO:49.11069;9.49184
X-APPLE-STRUCTURED-LOCATION;VALUE=URI;X-ADDRESS=Öhringer Straße 80\, Neuh
 ütten\, 71543\, Deutschland;X-APPLE-RADIUS=100;X-TITLE=Burgfriedenhalle N
 euhütten:geo:49.11069,9.49184
END:VEVENT
BEGIN:VTIMEZONE
TZID:Europe/Berlin
X-LIC-LOCATION:Europe/Berlin
BEGIN:DAYLIGHT
DTSTART:20260329T030000
TZOFFSETFROM:+0100
TZOFFSETTO:+0200
TZNAME:CEST
END:DAYLIGHT
END:VTIMEZONE
END:VCALENDAR