BEGIN:VCALENDAR
VERSION:2.0
PRODID:-//wp-events-plugin.com//5.99912//EN
TZID:Europe/Berlin
X-WR-TIMEZONE:Europe/Berlin
BEGIN:VEVENT
UID:0-305@neuhuetten.albverein.eu
DTSTART;TZID=Europe/Berlin:20260426T140000
DTEND;TZID=Europe/Berlin:20260426T180000
DTSTAMP:20260328T090251Z
URL:https://neuhuetten.albverein.eu/events/zauberhafte-schatzsuche/
SUMMARY:Zauberhafte Schatzsuche
DESCRIPTION:
LOCATION:Parkplatz Spatzenhof\, Spatzenhof 16\, Wüstenrot\, 71543\, Deutsc
 hland
GEO:49.092948;9.456598
X-APPLE-STRUCTURED-LOCATION;VALUE=URI;X-ADDRESS=Spatzenhof 16\, Wüstenrot\
 , 71543\, Deutschland;X-APPLE-RADIUS=100;X-TITLE=Parkplatz Spatzenhof:geo:
 49.092948,9.456598
END:VEVENT
BEGIN:VTIMEZONE
TZID:Europe/Berlin
X-LIC-LOCATION:Europe/Berlin
BEGIN:DAYLIGHT
DTSTART:20260329T030000
TZOFFSETFROM:+0100
TZOFFSETTO:+0200
TZNAME:CEST
END:DAYLIGHT
END:VTIMEZONE
END:VCALENDAR